BEGIN:VCALENDAR
VERSION:2.0
PRODID:-//eventon.com NONSGML v1.0//EN
CALSCALE:GREGORIAN
METHOD:PUBLISH
BEGIN:VEVENT
UID:69e758266bca2
DTSTAMP:20260421T105742Z
DTSTART:20260516T170000Z
DTEND:20260516T180000Z
LOCATION:Remsen Street\,  Brooklyn Heights
SUMMARY:Support Brooklyn Heights' Longest Table Community Potluck (Shift 3 of 4)
DESCRIPTION:Come support Brooklyn Heights&#8217; Longest Table Community Po
 tluck! The Brooklyn Heights Association is hosting The Longest Table\,  a f
 ree BYO-picnic where neighbors dine together at a communal table on car-fre
 e Remsen Street. Your help will support this community event\,  which bring
 s neighbors together and creates a inclusive free\,  space where[..]\nhttps
 ://theservicecollective.org/events/support-brooklyn-heights-longest-table-c
 ommunity-potluck-shift-3-of-4/
URL:https://theservicecollective.org/events/support-brooklyn-heights-longest-table-community-potluck-shift-3-of-4/
END:VEVENT
END:VCALENDAR